BEGIN:VCALENDAR
VERSION:2.0
PRODID:-//Философия для Жизни - ECPv6.15.11//NONSGML v1.0//EN
CALSCALE:GREGORIAN
METHOD:PUBLISH
X-WR-CALNAME:Философия для Жизни
X-ORIGINAL-URL:https://philo-sophy.by
X-WR-CALDESC:Мероприятия для Философия для Жизни
REFRESH-INTERVAL;VALUE=DURATION:PT1H
X-Robots-Tag:noindex
X-PUBLISHED-TTL:PT1H
BEGIN:VTIMEZONE
TZID:Europe/Moscow
BEGIN:STANDARD
TZOFFSETFROM:+0300
TZOFFSETTO:+0300
TZNAME:MSK
DTSTART:20250101T000000
END:STANDARD
END:VTIMEZONE
BEGIN:VEVENT
DTSTART;TZID=Europe/Moscow:20260425T183000
DTEND;TZID=Europe/Moscow:20260425T213000
DTSTAMP:20260421T113017
CREATED:20220405T234934Z
LAST-MODIFIED:20260420T132923Z
UID:489-1777141800-1777152600@philo-sophy.by
SUMMARY:Настольная игра «Хранители Земли»
DESCRIPTION:Меж­ду­на­род­но­му дню Мате­ри-Зем­ли посвящается. \nКак дей­ство­вать\, что­бы сохра­нить Зем­лю? При­гла­ша­ем при­нять уча­стие в команд­ной игре—стратегии «Хра­ни­те­ли Зем­ли»\, кото­рая моде­ли­ру­ет созна­тель­ное отно­ше­ние к пла­не­те и все­му живо­му на ней. \n✨ Участ­ни­ки не сорев­ну­ют­ся друг с дру­гом\, а все вме­сте объ­еди­ня­ют­ся\, что­бы спа­сти Зем­лю от эко­ло­ги­че­ской ката­стро­фы. Кли­мат на пла­не­те меня­ет­ся\, при­род­ные ресур­сы закан­чи­ва­ют­ся\, источ­ни­ки чистой воды загряз­ня­ют­ся. Каж­дый созна­тель­ный чело­век заду­мы­ва­ет­ся о том\, что мож­но сде­лать\, что­бы изме­нить ситуацию. \nИгра пока­зы­ва­ет\, какие под­хо­ды и при­выч­ки нуж­но изме­нить\, какой опыт мы можем взять в свою жизнь\, что можем делать в малом\, что­бы полу­чить эффект в боль­шем\, что­бы справ­лять­ся с эко­ло­ги­че­ски­ми проблемами 🌿 \n🌟 Если вы уже дав­но соби­ра­лись начать эко­ло­ги­че­ский образ жиз­ни\, но не зна­ли «с чего» — при­хо­ди­те! Это интересно! \nРеги­стра­ция обя­за­тель­на на сай­те или по теле­фо­ну: +375339178617 \nВстре­ча про­во­дит­ся в рам­ках про­ек­та «Фило­со­фия для жиз­ни»\, в осно­ве кото­ро­го лежит идея фило­со­фии как прак­ти­че­ско­го спо­со­ба мыс­лить\, рас­по­зна­вать\, действовать. \nПро­дол­жи­тель­ность: 2\,5 — 3 часа
URL:https://philo-sophy.by/events/nastolnaja-igra-hraniteli-zemli/
LOCATION:ул. Веры Хоружей\, 1А (м. Площадь Якуба Коласа)\, ул. Веры Хоружей\, 1А\, помещение 408 (2-е крыльцо по правой стороне здания\, дверь к лифтам налево\, 4-й этаж\, домофон на этаже 408К)\, Минск\, Беларусь
CATEGORIES:Международный день Матери-Земли,Тематический вечер
ATTACH;FMTTYPE=image/webp:https://philo-sophy.by/wp-content/uploads/2022/04/igra_hraniteli_zemli_1.webp
END:VEVENT
BEGIN:VEVENT
DTSTART;TZID=Europe/Moscow:20260510T120000
DTEND;TZID=Europe/Moscow:20260510T150000
DTSTAMP:20260421T113017
CREATED:20260311T110334Z
LAST-MODIFIED:20260410T130506Z
UID:1217-1778414400-1778425200@philo-sophy.by
SUMMARY:Курс «Ораторское искусство. Учимся говорить понятно»
DESCRIPTION:Курс помо­жет: \n\nСостав­лять речь\, исполь­зуя зако­ны логи­ко-ком­по­зи­ци­он­но­го построения.\nПри­вле­кать и удер­жи­вать вни­ма­ние слушателей.\nПро­буж­дать уве­рен­ность в себе\, пре­одо­ле­вать страх и волнение.\nФор­му­ли­ро­вать свои мыс­ли и чувства.\nИсполь­зо­вать невер­баль­ные сред­ства обще­ния (жесты\, мими­ка\, поза оратора).\n\nДосто­ин­ство кур­са — в его прак­тич­но­сти. 30% вре­ме­ни вы изу­ча­е­те тео­рию\, осталь­ные 70% — прак­ти­ка: упраж­не­ния\, игры\, арти­ку­ля­ци­он­ная и жесто­вая гим­на­сти­ка\, раз­ра­бот­ка тек­стов выступ­ле­ния\, моно­ло­ги\, ана­лиз и кор­рек­ти­ров­ка выступ­ле­ний\, домаш­ние зада­ния\, инди­ви­ду­аль­ные кон­суль­та­ции\, обще­ние внут­ри группы. \nПро­дол­жи­тель­ность кур­са: 5 заня­тий по 3 часа (с перерывом) \nСто­и­мость кур­са: 300 р. (для сту­ден­тов — 200 р.). \nС 29 мар­та по вос­кре­се­ньям в 12:00. \nЕсли про­пус­ка­е­те какое-то заня­тие по вине обсто­я­тельств — при­сы­ла­ем запись заня­тия и все зада­ния\, то есть про­бел мож­но восполнить. \nЗапись на сай­те или по теле­фо­ну: +375339178601 \nКурс ведёт пре­по­да­ва­тель с мно­го­лет­ним опытом.
URL:https://philo-sophy.by/events/kurs-oratorskoe-iskusstvo-uchimsja-govorit-ponjatno/
LOCATION:ул. Веры Хоружей\, 1А (м. Площадь Якуба Коласа)\, ул. Веры Хоружей\, 1А\, помещение 408 (2-е крыльцо по правой стороне здания\, дверь к лифтам налево\, 4-й этаж\, домофон на этаже 408К)\, Минск\, Беларусь
CATEGORIES:Курсы
ATTACH;FMTTYPE=image/jpeg:https://philo-sophy.by/wp-content/uploads/2026/03/ritorika-1920h1080.jpg
END:VEVENT
BEGIN:VEVENT
DTSTART;TZID=Europe/Moscow:20260513T190000
DTEND;TZID=Europe/Moscow:20260513T220000
DTSTAMP:20260421T113017
CREATED:20260410T130852Z
LAST-MODIFIED:20260410T130852Z
UID:1234-1778698800-1778709600@philo-sophy.by
SUMMARY:Курс «Ораторское искусство. Учимся говорить понятно»
DESCRIPTION:Курс помо­жет: \n\nСостав­лять речь\, исполь­зуя зако­ны логи­ко-ком­по­зи­ци­он­но­го построения.\nПри­вле­кать и удер­жи­вать вни­ма­ние слушателей.\nПро­буж­дать уве­рен­ность в себе\, пре­одо­ле­вать страх и волнение.\nФор­му­ли­ро­вать свои мыс­ли и чувства.\nИсполь­зо­вать невер­баль­ные сред­ства обще­ния (жесты\, мими­ка\, поза оратора).\n\nДосто­ин­ство кур­са — в его прак­тич­но­сти. 30% вре­ме­ни вы изу­ча­е­те тео­рию\, осталь­ные 70% — прак­ти­ка: упраж­не­ния\, игры\, арти­ку­ля­ци­он­ная и жесто­вая гим­на­сти­ка\, раз­ра­бот­ка тек­стов выступ­ле­ния\, моно­ло­ги\, ана­лиз и кор­рек­ти­ров­ка выступ­ле­ний\, домаш­ние зада­ния\, инди­ви­ду­аль­ные кон­суль­та­ции\, обще­ние внут­ри группы. \nПро­дол­жи­тель­ность кур­са: 5 заня­тий по 3 часа (с перерывом) \nСто­и­мость кур­са: 300 р. (для сту­ден­тов — 200 р.). \nС 29 мар­та по вос­кре­се­ньям в 12:00. \nЕсли про­пус­ка­е­те какое-то заня­тие по вине обсто­я­тельств — при­сы­ла­ем запись заня­тия и все зада­ния\, то есть про­бел мож­но восполнить. \nЗапись на сай­те или по теле­фо­ну: +375339178601 \nКурс ведёт пре­по­да­ва­тель с мно­го­лет­ним опытом.
URL:https://philo-sophy.by/events/kurs-oratorskoe-iskusstvo-uchimsja-govorit-ponjatno-2/
LOCATION:ул. Веры Хоружей\, 1А (м. Площадь Якуба Коласа)\, ул. Веры Хоружей\, 1А\, помещение 408 (2-е крыльцо по правой стороне здания\, дверь к лифтам налево\, 4-й этаж\, домофон на этаже 408К)\, Минск\, Беларусь
CATEGORIES:Курсы
ATTACH;FMTTYPE=image/jpeg:https://philo-sophy.by/wp-content/uploads/2026/03/ritorika-1920h1080.jpg
END:VEVENT
END:VCALENDAR